BEGIN:VCALENDAR
TZID:America/New_York
VERSION:2.0
PRODID:-//Center for Health Incentives and Behavioral Economics (CHIBE) //NONSGML Events //EN
CALSCALE:GREGORIAN
X-WR-CALNAME:Center for Health Incentives and Behavioral Economics (CHIBE)
BEGIN:VEVENT
SUMMARY:CHIBE/PAIR Roybal Retreat
CREATED:20231004T004108Z
UID:34300
DTSTART:20231012
DTEND:20231013
LOCATION:
DESCRIPTION:
ORGANIZER:Center for Health Incentives and Behavioral Economics (CHIBE)
URL;VALUE=URI:https://chibe.upenn.edu/event/chibe-pair-roybal-retreat/
TRANSP:OPAQUE
END:VEVENT
END:VCALENDAR
